BEGIN:VCALENDAR
VERSION:2.0
PRODID:-//Filmhuis Mechelen - ECPv4.3.1.1//NONSGML v1.0//EN
CALSCALE:GREGORIAN
METHOD:PUBLISH
X-WR-CALNAME:Filmhuis Mechelen
X-ORIGINAL-URL:https://www.filmhuismechelen.be
X-WR-CALDESC:Events for Filmhuis Mechelen
BEGIN:VEVENT
DTSTART;TZID=UTC+2:20220404T183000
DTEND;TZID=UTC+2:20220404T183000
DTSTAMP:20260421T043047
CREATED:20220228T150523Z
LAST-MODIFIED:20220328T164335Z
UID:24845-1649097000-1649097000@www.filmhuismechelen.be
SUMMARY:L'EVENEMENT
DESCRIPTION:Vertoning:\n- MAANDAG 4 APRIL om 18u30 - tickets voor deze vertoning HIER!\n\n\nTIP: koop eerst een SEIZOENSKAART\, en bespaar zo 2 euro per ticket.\n\nALLE INFO\, TRAILER & RECENSIES HIER!\n\n
URL:https://www.filmhuismechelen.be/vertoning/levenement-3/
LOCATION:Minderbroedersgang 5\, Mechelen\, 2800
CATEGORIES:Programma
END:VEVENT
END:VCALENDAR