BEGIN:VCALENDAR
VERSION:2.0
PRODID:-//Filmhuis Mechelen - ECPv4.3.1.1//NONSGML v1.0//EN
CALSCALE:GREGORIAN
METHOD:PUBLISH
X-WR-CALNAME:Filmhuis Mechelen
X-ORIGINAL-URL:https://www.filmhuismechelen.be
X-WR-CALDESC:Events for Filmhuis Mechelen
BEGIN:VEVENT
DTSTART;TZID=UTC+2:20220328T183000
DTEND;TZID=UTC+2:20220328T183000
DTSTAMP:20260421T023645
CREATED:20220228T150356Z
LAST-MODIFIED:20220316T193725Z
UID:24843-1648492200-1648492200@www.filmhuismechelen.be
SUMMARY:L'EVENEMENT
DESCRIPTION:Vertoningen:\n- MAANDAG 28 MAART om 18u30 - tickets voor deze vertoning HIER!\n- MAANDAG 4 APRIL om 18u30 - tickets voor deze vertoning HIER!\n\n\nTIP: koop eerst een SEIZOENSKAART\, en bespaar zo 2 euro per ticket.\n\nALLE INFO\, TRAILER & RECENSIES HIER!\n\n
URL:https://www.filmhuismechelen.be/vertoning/levenement-2/
LOCATION:Minderbroedersgang 5\, Mechelen\, 2800
CATEGORIES:Programma
END:VEVENT
END:VCALENDAR