BEGIN:VCALENDAR
VERSION:2.0
PRODID:-//Filmhuis Mechelen - ECPv4.3.1.1//NONSGML v1.0//EN
CALSCALE:GREGORIAN
METHOD:PUBLISH
X-WR-CALNAME:Filmhuis Mechelen
X-ORIGINAL-URL:https://www.filmhuismechelen.be
X-WR-CALDESC:Events for Filmhuis Mechelen
BEGIN:VEVENT
DTSTART;TZID=UTC+2:20180507T183000
DTEND;TZID=UTC+2:20180507T183000
DTSTAMP:20260425T210818
CREATED:20180412T224156Z
LAST-MODIFIED:20180412T224156Z
UID:9835-1525717800-1525717800@www.filmhuismechelen.be
SUMMARY:LEUVEN '68
DESCRIPTION:TWEE VERTONINGEN:\nMAANDAG 30 APRIL om 20u30.\nMAANDAG 7 MEI om 18u30.\n\n
URL:https://www.filmhuismechelen.be/vertoning/leuven-68-2/
CATEGORIES:Documentaire,Programma
END:VEVENT
END:VCALENDAR