BEGIN:VCALENDAR
VERSION:2.0
PRODID:-//Filmhuis Mechelen - ECPv4.3.1.1//NONSGML v1.0//EN
CALSCALE:GREGORIAN
METHOD:PUBLISH
X-WR-CALNAME:Filmhuis Mechelen
X-ORIGINAL-URL:https://www.filmhuismechelen.be
X-WR-CALDESC:Events for Filmhuis Mechelen
BEGIN:VEVENT
DTSTART;TZID=UTC+2:20200103T183000
DTEND;TZID=UTC+2:20200103T183000
DTSTAMP:20260421T003110
CREATED:20191211T135302Z
LAST-MODIFIED:20191217T201955Z
UID:13297-1578076200-1578076200@www.filmhuismechelen.be
SUMMARY:LES MISERABLES
DESCRIPTION:Vertoning:\nVRIJDAG 3 JANUARI om 18u30.\n\nALLE INFO\, TRAILER & RECENSIES HIER!\n\n
URL:https://www.filmhuismechelen.be/vertoning/les-miserables-4/
CATEGORIES:Programma
END:VEVENT
END:VCALENDAR