BEGIN:VCALENDAR
VERSION:2.0
PRODID:-//Filmhuis Mechelen - ECPv4.3.1.1//NONSGML v1.0//EN
CALSCALE:GREGORIAN
METHOD:PUBLISH
X-WR-CALNAME:Filmhuis Mechelen
X-ORIGINAL-URL:https://www.filmhuismechelen.be
X-WR-CALDESC:Events for Filmhuis Mechelen
BEGIN:VEVENT
DTSTART;TZID=UTC+2:20191028T190000
DTEND;TZID=UTC+2:20191028T190000
DTSTAMP:20260421T050838
CREATED:20190912T201547Z
LAST-MODIFIED:20191007T202252Z
UID:12568-1572289200-1572289200@www.filmhuismechelen.be
SUMMARY:LES HIRONDELLES DE KABOUL
DESCRIPTION:Vertoningen:\nDINSDAG 15 OKTOBER om 18u30.\nMAANDAG 28 OKTOBER om 19u00.\n\nI.s.m. Mechelen Mondiaal en Plan International.\nVertoning t.v.v. Plan International!\n\nAlle info\, trailer & recensies HIER!\n\n \n\nLES
URL:https://www.filmhuismechelen.be/vertoning/les-hirondelles-de-kaboul-2/
CATEGORIES:Programma
END:VEVENT
END:VCALENDAR