BEGIN:VCALENDAR
VERSION:2.0
PRODID:-//Filmhuis Mechelen - ECPv4.3.1.1//NONSGML v1.0//EN
CALSCALE:GREGORIAN
METHOD:PUBLISH
X-WR-CALNAME:Filmhuis Mechelen
X-ORIGINAL-URL:https://www.filmhuismechelen.be
X-WR-CALDESC:Events for Filmhuis Mechelen
BEGIN:VEVENT
DTSTART;TZID=UTC+2:20180501T183000
DTEND;TZID=UTC+2:20180501T183000
DTSTAMP:20260425T193956
CREATED:20180412T121348Z
LAST-MODIFIED:20180413T212859Z
UID:9814-1525199400-1525199400@www.filmhuismechelen.be
SUMMARY:LEAN ON PETE
DESCRIPTION:DRIE VERTONINGEN!\nDINSDAG 1 MEI om 18u30.\nDINSDAG 1 MEI om 20u35.\nMAANDAG 14 MEI om 18u30.\n
URL:https://www.filmhuismechelen.be/vertoning/lean-on-pete-2/
CATEGORIES:De dinsdagen van het Filmhuis,Programma
END:VEVENT
END:VCALENDAR