BEGIN:VCALENDAR
VERSION:2.0
PRODID:-//Filmhuis Mechelen - ECPv4.3.1.1//NONSGML v1.0//EN
CALSCALE:GREGORIAN
METHOD:PUBLISH
X-WR-CALNAME:Filmhuis Mechelen
X-ORIGINAL-URL:https://www.filmhuismechelen.be
X-WR-CALDESC:Events for Filmhuis Mechelen
BEGIN:VEVENT
DTSTART;TZID=UTC+2:20180205T203000
DTEND;TZID=UTC+2:20180205T203000
DTSTAMP:20260425T104525
CREATED:20180121T223239Z
LAST-MODIFIED:20180121T223239Z
UID:9401-1517862600-1517862600@www.filmhuismechelen.be
SUMMARY:LE PETIT PRINCE
DESCRIPTION:MAANDAG 5 FEBRUARI om 20u30.\n\nDeze vertoning wordt om 19u50 ingeleid door auteur Kolet Janssen.\n\nEen organisatie i.s.m. IJD/CCV.\n\n\n
URL:https://www.filmhuismechelen.be/vertoning/le-petit-prince/
CATEGORIES:Programma
END:VEVENT
END:VCALENDAR