BEGIN:VCALENDAR
VERSION:2.0
PRODID:-//Filmhuis Mechelen - ECPv4.3.1.1//NONSGML v1.0//EN
CALSCALE:GREGORIAN
METHOD:PUBLISH
X-WR-CALNAME:Filmhuis Mechelen
X-ORIGINAL-URL:https://www.filmhuismechelen.be
X-WR-CALDESC:Events for Filmhuis Mechelen
BEGIN:VEVENT
DTSTART;TZID=UTC+2:20260203T183000
DTEND;TZID=UTC+2:20260203T183000
DTSTAMP:20260419T161829
CREATED:20260108T152800Z
LAST-MODIFIED:20260119T213950Z
UID:36641-1770143400-1770143400@www.filmhuismechelen.be
SUMMARY:LE MÉPRIS
DESCRIPTION:Vertoning:\n- DINSDAG 3 FEBRUARI om 18u30 - tickets HIER!\n\nTIP: koop eerst HIER een Filmhuis-seizoenskaart\, en bespaar zo een heel seizoen lang 2 euro per vertoning!\n\nNaar aanleiding van het overlijden van Brigitte Bardot en onze vertoningen van 'NOUVELLE VAGUE' brengen we het meesterwerk van Godard én Bardot terug op het grote scherm\, in een glorieuze 4K-restauratie!\n\nALLE INFO\, TRAILER & RECENSIES HIER!\n\n\n\nDe pers over 'LE MÉPRIS':\n\n'The greatest work of art produced in postwar Europe.' - Colin McCabe\, Sight & Sound\n\n'Godards meesterwerk. Een film die elke nieuwe generatie opnieuw kan ontdekken en die elke oude generatie opnieuw moet interpreteren\, zo raak en visionair was deze film-over-film.' - De Filmkrant\n\n'Hoe te verklaren dat 'Le Mépris' zo'n aangrijpende film is? Het mooiste van de film blijft onbesproken.' - VPRO Cinema
URL:https://www.filmhuismechelen.be/vertoning/le-mepris-2/
LOCATION:Oude Brusselsestraat 10\, Mechelen\, 2800\, België
CATEGORIES:De dinsdagen van het Filmhuis,Klassiekers,Programma
END:VEVENT
END:VCALENDAR