BEGIN:VCALENDAR
VERSION:2.0
PRODID:-//Filmhuis Mechelen - ECPv4.3.1.1//NONSGML v1.0//EN
CALSCALE:GREGORIAN
METHOD:PUBLISH
X-WR-CALNAME:Filmhuis Mechelen
X-ORIGINAL-URL:https://www.filmhuismechelen.be
X-WR-CALDESC:Events for Filmhuis Mechelen
BEGIN:VEVENT
DTSTART;TZID=UTC+2:20190527T183000
DTEND;TZID=UTC+2:20190527T183000
DTSTAMP:20260423T105527
CREATED:20190418T164840Z
LAST-MODIFIED:20190418T164840Z
UID:11932-1558981800-1558981800@www.filmhuismechelen.be
SUMMARY:LE JEUNE AHMED
DESCRIPTION:Vertoningen:\nMAANDAG 27 MEI om 18u30.\nDINSDAG 28 MEI om 18u30.\nDINSDAG 28 MEI om 20u30.\n\nRecht van de première op het Festival van Cannes naar het Filmhuis: de gloednieuwe van de gebroeders Dardenne!\n\n
URL:https://www.filmhuismechelen.be/vertoning/le-jeune-ahmed-3/
CATEGORIES:Programma
END:VEVENT
END:VCALENDAR