BEGIN:VCALENDAR
VERSION:2.0
PRODID:-//Filmhuis Mechelen - ECPv4.3.1.1//NONSGML v1.0//EN
CALSCALE:GREGORIAN
METHOD:PUBLISH
X-WR-CALNAME:Filmhuis Mechelen
X-ORIGINAL-URL:https://www.filmhuismechelen.be
X-WR-CALDESC:Events for Filmhuis Mechelen
BEGIN:VEVENT
DTSTART;TZID=UTC+2:20171128T183000
DTEND;TZID=UTC+2:20171128T183000
DTSTAMP:20260425T161743
CREATED:20171013T153745Z
LAST-MODIFIED:20171026T222720Z
UID:8372-1511893800-1511893800@www.filmhuismechelen.be
SUMMARY:LE FIDELE
DESCRIPTION:TWEE VERTONINGEN!\nVertoning 1 om 18u30.\nVertoning 2 om 20u40.\n\nAlle info over deze vertoning vindt u HIER.\n\n
URL:https://www.filmhuismechelen.be/vertoning/le-fidele/
CATEGORIES:De dinsdagen van het Filmhuis,Programma
END:VEVENT
END:VCALENDAR