BEGIN:VCALENDAR
VERSION:2.0
PRODID:-//Filmhuis Mechelen - ECPv4.3.1.1//NONSGML v1.0//EN
CALSCALE:GREGORIAN
METHOD:PUBLISH
X-WR-CALNAME:Filmhuis Mechelen
X-ORIGINAL-URL:https://www.filmhuismechelen.be
X-WR-CALDESC:Events for Filmhuis Mechelen
BEGIN:VEVENT
DTSTART;TZID=UTC+2:20171031T183000
DTEND;TZID=UTC+2:20171031T183000
DTSTAMP:20260425T160517
CREATED:20171017T233329Z
LAST-MODIFIED:20171026T220627Z
UID:8401-1509474600-1509474600@www.filmhuismechelen.be
SUMMARY:L'AMANT DOUBLE
DESCRIPTION:Vertoning om 18u30.\n\nAlle info over deze voorstelling vindt u HIER.\n\n
URL:https://www.filmhuismechelen.be/vertoning/lamant-double-4/
CATEGORIES:De dinsdagen van het Filmhuis,Programma
END:VEVENT
END:VCALENDAR