BEGIN:VCALENDAR
VERSION:2.0
PRODID:-//Filmhuis Mechelen - ECPv4.3.1.1//NONSGML v1.0//EN
CALSCALE:GREGORIAN
METHOD:PUBLISH
X-WR-CALNAME:Filmhuis Mechelen
X-ORIGINAL-URL:https://www.filmhuismechelen.be
X-WR-CALDESC:Events for Filmhuis Mechelen
BEGIN:VEVENT
DTSTART;TZID=UTC+2:20171010T203000
DTEND;TZID=UTC+2:20171010T203000
DTSTAMP:20260425T210757
CREATED:20170906T212640Z
LAST-MODIFIED:20170906T212640Z
UID:8119-1507667400-1507667400@www.filmhuismechelen.be
SUMMARY:L'AMANT DOUBLE
DESCRIPTION:TWEE VERTONINGEN!\nVertoning 1 om 18u30.\nVertoning 2 om 20u30.\n\n\n
URL:https://www.filmhuismechelen.be/vertoning/lamant-double-2/
CATEGORIES:De dinsdagen van het Filmhuis,Programma
END:VEVENT
END:VCALENDAR