BEGIN:VCALENDAR
VERSION:2.0
PRODID:-//Filmhuis Mechelen - ECPv4.3.1.1//NONSGML v1.0//EN
CALSCALE:GREGORIAN
METHOD:PUBLISH
X-WR-CALNAME:Filmhuis Mechelen
X-ORIGINAL-URL:https://www.filmhuismechelen.be
X-WR-CALDESC:Events for Filmhuis Mechelen
BEGIN:VEVENT
DTSTART;TZID=UTC+2:20190611T203000
DTEND;TZID=UTC+2:20190611T203000
DTSTAMP:20260421T025930
CREATED:20190419T093200Z
LAST-MODIFIED:20190610T220502Z
UID:11952-1560285000-1560285000@www.filmhuismechelen.be
SUMMARY:LA TERRA DELL'ABBASTANZA
DESCRIPTION:Vertoning:\nDINSDAG 11 JUNI om 20u30.\n\n
URL:https://www.filmhuismechelen.be/vertoning/la-terra-dellabbastanza-2/
CATEGORIES:De dinsdagen van het Filmhuis,Programma
END:VEVENT
END:VCALENDAR