BEGIN:VCALENDAR
VERSION:2.0
PRODID:-//Filmhuis Mechelen - ECPv4.3.1.1//NONSGML v1.0//EN
CALSCALE:GREGORIAN
METHOD:PUBLISH
X-WR-CALNAME:Filmhuis Mechelen
X-ORIGINAL-URL:https://www.filmhuismechelen.be
X-WR-CALDESC:Events for Filmhuis Mechelen
BEGIN:VEVENT
DTSTART;TZID=UTC+2:20200107T203000
DTEND;TZID=UTC+2:20200107T203000
DTSTAMP:20260420T224012
CREATED:20191120T230144Z
LAST-MODIFIED:20191206T144935Z
UID:13112-1578429000-1578429000@www.filmhuismechelen.be
SUMMARY:LA ROSE BLANCHE + KOSMOKRATORS live!
DESCRIPTION:Vertoning:\nDINSDAG 7 JANUARI om 20u30.\n\nIn aanwezigheid van regisseur\nKris Kaerts.\n\nMet live rebetikomuziek van Kosmokrators.\n+\nnieuwjaarsdrink voor de trouwe Filmhuisbezoekers!\n\nALLE INFO\, TRAILER EN PERSARTIKELS HIER!\n\n[caption id="attachment_13113" align="alignleft" width="554"] foto Poli Roumeliotis[/caption]\n\n 
URL:https://www.filmhuismechelen.be/vertoning/la-rose-blanche-kosmokrators-live/
CATEGORIES:De dinsdagen van het Filmhuis,Documentaire
END:VEVENT
END:VCALENDAR