BEGIN:VCALENDAR
VERSION:2.0
PRODID:-//Filmhuis Mechelen - ECPv4.3.1.1//NONSGML v1.0//EN
CALSCALE:GREGORIAN
METHOD:PUBLISH
X-WR-CALNAME:Filmhuis Mechelen
X-ORIGINAL-URL:https://www.filmhuismechelen.be
X-WR-CALDESC:Events for Filmhuis Mechelen
BEGIN:VEVENT
DTSTART;TZID=UTC+2:20201013T203000
DTEND;TZID=UTC+2:20201013T203000
DTSTAMP:20260421T020409
CREATED:20200904T123034Z
LAST-MODIFIED:20201013T184915Z
UID:17875-1602621000-1602621000@www.filmhuismechelen.be
SUMMARY:LA ODISEA
DESCRIPTION:Kies de gewenste vertoning en koop uw tickets (maximum in bubbel van 5):\n\nTIP: koop eerst uw Filmhuis-seizoenkaart HIER\, u geniet dan van 2 euro korting per film!\n\n \n\nDINSDAG 20 OKTOBER om 18u30.\nTickets voor deze vertoning HIER!\n\nMAANDAG 26 OKTOBER om 18u30.\nTickets voor deze vertoning HIER!\n\nALLE INFO\, TRAILER & RECENSIES HIER!\n\n\n\nKijkwijzer:\n\n\n 
URL:https://www.filmhuismechelen.be/vertoning/la-odisea/
CATEGORIES:De dinsdagen van het Filmhuis,Programma
END:VEVENT
END:VCALENDAR