BEGIN:VCALENDAR
VERSION:2.0
PRODID:-//Filmhuis Mechelen - ECPv4.3.1.1//NONSGML v1.0//EN
CALSCALE:GREGORIAN
METHOD:PUBLISH
X-WR-CALNAME:Filmhuis Mechelen
X-ORIGINAL-URL:https://www.filmhuismechelen.be
X-WR-CALDESC:Events for Filmhuis Mechelen
BEGIN:VEVENT
DTSTART;TZID=UTC+2:20220308T203000
DTEND;TZID=UTC+2:20220308T203000
DTSTAMP:20260421T074416
CREATED:20220128T160445Z
LAST-MODIFIED:20220223T001123Z
UID:24389-1646771400-1646771400@www.filmhuismechelen.be
SUMMARY:LA DERNIÈRE TENTATION DES BELGES
DESCRIPTION:Vertoningen:\n- DINSDAG 8 MAART om 18u30 – tickets voor deze vertoning HIER!\n- DINSDAG 8 MAART om 20u30 – tickets voor deze vertoning HIER!\nBeide vertoningen in aanwezigheid van regisseur Jan Bucquoy!\n\n- MAANDAG 14 MAART om 18u30 - tickets voor deze vertoning HIER!\nVertoning niet in aanwezigheid van Jan Bucquoy\n\nTIP: koop eerst een SEIZOENSKAART\, en bespaar zo 2 euro per ticket.\n\nINFO & TRAILER HIER!\n\n
URL:https://www.filmhuismechelen.be/vertoning/la-derniere-tentation-des-belges-2/
LOCATION:Minderbroedersgang 5\, Mechelen\, 2800
CATEGORIES:De dinsdagen van het Filmhuis,Programma
END:VEVENT
END:VCALENDAR