BEGIN:VCALENDAR
VERSION:2.0
PRODID:-//Filmhuis Mechelen - ECPv4.3.1.1//NONSGML v1.0//EN
CALSCALE:GREGORIAN
METHOD:PUBLISH
X-WR-CALNAME:Filmhuis Mechelen
X-ORIGINAL-URL:https://www.filmhuismechelen.be
X-WR-CALDESC:Events for Filmhuis Mechelen
BEGIN:VEVENT
DTSTART;TZID=UTC+2:20220328T203000
DTEND;TZID=UTC+2:20220328T203000
DTSTAMP:20260421T005024
CREATED:20210610T000502Z
LAST-MODIFIED:20220223T155755Z
UID:22277-1648499400-1648499400@www.filmhuismechelen.be
SUMMARY:LA CORDILLERA DE LOS SUENOS 
DESCRIPTION:Vertoning:\nMAANDAG 28 MAART 2022 om 20u30 - TICKETS voor deze vertoning HIER!\n\nBelangstellenden kunnen vanaf 20u15 een inleiding bijwonen van Leo De Weerdt sj.\n\nINFO\, TRAILER & RECENSIES HIER!\n\n\n\nEen organisatie i.s.m. CCV en de Mechelse Parochies.\n\n
URL:https://www.filmhuismechelen.be/vertoning/la-cordillera-de-los-suenos/
LOCATION:Minderbroedersgang 5\, Mechelen\, 2800
CATEGORIES:Documentaire,Programma
END:VEVENT
END:VCALENDAR