BEGIN:VCALENDAR
VERSION:2.0
PRODID:-//Filmhuis Mechelen - ECPv4.3.1.1//NONSGML v1.0//EN
CALSCALE:GREGORIAN
METHOD:PUBLISH
X-WR-CALNAME:Filmhuis Mechelen
X-ORIGINAL-URL:https://www.filmhuismechelen.be
X-WR-CALDESC:Events for Filmhuis Mechelen
BEGIN:VEVENT
DTSTART;TZID=UTC+2:20170919T203000
DTEND;TZID=UTC+2:20170919T203000
DTSTAMP:20260425T211351
CREATED:20170611T205852Z
LAST-MODIFIED:20170906T213552Z
UID:7824-1505853000-1505853000@www.filmhuismechelen.be
SUMMARY:USA 1982: WE STOOD LIKE KINGS plays KOYAANISQATSI
DESCRIPTION:Vertoning om 20u30.\n\n \n\n \n\n \n\n \n\nBELGISCHE PREMIERE van de live-soundtrack van We Stood Like Kings bij 'Koyaanisqatsi'\, de adembenemende mooie moderne klassieker van Godfrey Reggio.\n\n\n\n\n\n \n\n 
URL:https://www.filmhuismechelen.be/vertoning/koyaanisqatsi-live-begeleid-door-we-stood-like-kings/
CATEGORIES:De dinsdagen van het Filmhuis,Programma
END:VEVENT
END:VCALENDAR