BEGIN:VCALENDAR
VERSION:2.0
PRODID:-//Filmhuis Mechelen - ECPv4.3.1.1//NONSGML v1.0//EN
CALSCALE:GREGORIAN
METHOD:PUBLISH
X-WR-CALNAME:Filmhuis Mechelen
X-ORIGINAL-URL:https://www.filmhuismechelen.be
X-WR-CALDESC:Events for Filmhuis Mechelen
BEGIN:VEVENT
DTSTART;TZID=UTC+2:20171211T190000
DTEND;TZID=UTC+2:20171211T190000
DTSTAMP:20260425T125110
CREATED:20171203T183153Z
LAST-MODIFIED:20171204T133514Z
UID:8759-1513018800-1513018800@www.filmhuismechelen.be
SUMMARY:Kortfilms FATHERPLACE en PASSÉE L'AUBE
DESCRIPTION:Vertoning om 19u00.\n\nInkom kortfilms:\n4 euro (gratis drankje inbegrepen!)\n\nInkom kortfilms + ‘BEUYS’ + gratis drankje:\n6 euro (Filmhuisleden / studenten Academie Mechelen)\n7 euro (niet-leden)\n\n\n\n‘Fatherplace’ van de jonge Mechelse regisseur Bas Schulte vertelt het verhaal van twee mannen met een camera: de ene is debutant\, de andere een gevestigde waarde\, de ene is de zoon\, de andere is de vader. Beetje bij beetje komt een dialoog tot stand over de essentie van hun beroep: wat betekent filmen\, achter de camera staan?\n\n‘Fatherplace’ werd op het jongste Brussels Art Film Festival bekroond met de Prix Découverte.\n\n\nWe combineren deze kortfilm met een herneming van het prachtige ‘PASSÉE L’AUBE’ van Nicolas Graux\, met Tijmen Govaerts.\n\nVertoning in aanwezigheid van Bas Schulte Schulte en Tijmen Govaerts.
URL:https://www.filmhuismechelen.be/vertoning/kortfilms-fatherplace-en-passee-laube/
CATEGORIES:Kortfilm,Programma
END:VEVENT
END:VCALENDAR