BEGIN:VCALENDAR
VERSION:2.0
PRODID:-//Filmhuis Mechelen - ECPv4.3.1.1//NONSGML v1.0//EN
CALSCALE:GREGORIAN
METHOD:PUBLISH
X-WR-CALNAME:Filmhuis Mechelen
X-ORIGINAL-URL:https://www.filmhuismechelen.be
X-WR-CALDESC:Events for Filmhuis Mechelen
BEGIN:VEVENT
DTSTART;TZID=UTC+2:20191117T110000
DTEND;TZID=UTC+2:20191117T110000
DTSTAMP:20260421T022845
CREATED:20190811T155603Z
LAST-MODIFIED:20200130T120027Z
UID:12249-1573988400-1573988400@www.filmhuismechelen.be
SUMMARY:Kinderfilmontbijt: OP STAP: kortfilmspecial (4+)
DESCRIPTION:ZONDAG 17 NOVEMBER\n\nOntbijt: vanaf 10u00.\nFilm: om 11u00.\n\nOPGELET:\nDe formule film + ontbijt is UITVERKOCHT!\nVoor de film alleen (zonder ontbijt) zijn nog tickets aan de kassa een te koop.\n\nOP STAP: een kortfilmprogramma op Kinderkunstendag met o.m. ‘ROBO’ van Leo Becker en ‘DE VOS EN HET VOGELTJE’ van Fred en Sam Guillaume.\n\nRichtleeftijd: 4 +\n\nEen vertoning in samenwerking met REKKER en Cultuurcentrum Mechelen.\n\nHet heerlijke ontbijt wordt als vanouds verzorgd door Oxfam Wereldwinkel Mechelen.\n\n\n\n 
URL:https://www.filmhuismechelen.be/vertoning/kinderfilmontbijt-op-stap-kortfilmspecial-4/
CATEGORIES:Kinderfilms,Programma
END:VEVENT
END:VCALENDAR