BEGIN:VCALENDAR
VERSION:2.0
PRODID:-//Filmhuis Mechelen - ECPv4.3.1.1//NONSGML v1.0//EN
CALSCALE:GREGORIAN
METHOD:PUBLISH
X-WR-CALNAME:Filmhuis Mechelen
X-ORIGINAL-URL:https://www.filmhuismechelen.be
X-WR-CALDESC:Events for Filmhuis Mechelen
BEGIN:VEVENT
DTSTART;TZID=UTC+2:20220213T110000
DTEND;TZID=UTC+2:20220213T110000
DTSTAMP:20260421T091833
CREATED:20220113T024732Z
LAST-MODIFIED:20220210T173300Z
UID:24246-1644750000-1644750000@www.filmhuismechelen.be
SUMMARY:Kinderfilmontbijt: MIJN MOEDER IS EEN GORILLA
DESCRIPTION:Vertoning:\nZONDAG 13 FEBRUARI\n\nOntbijt vanaf 10u00 \nFilm om 11u00\n\nDe plaatsjes voor het ontbijt zijn inmiddels uitverkocht.\nTICKETS voor de film alleen zijn nog wel verkrijgbaar\, en vindt u HIER!\n\nWe vertonen de Nederlandstalige versie!\n\nRichtleeftijd: 5+\n\nALLE INFO & TRAILER HIER!\n\nEen organisatie i.s.m. REKKER en Cultuurcentrum Mechelen.\nHet lekkere ontbijt wordt zoals altijd verzorgd door Wereldwinkel Mechelen.
URL:https://www.filmhuismechelen.be/vertoning/kinderfilmontbijt-mijn-moeder-is-een-gorilla/
LOCATION:Minderbroedersgang 5\, Mechelen\, 2800
CATEGORIES:Kinderfilms,Programma
END:VEVENT
END:VCALENDAR