BEGIN:VCALENDAR
VERSION:2.0
PRODID:-//Filmhuis Mechelen - ECPv4.3.1.1//NONSGML v1.0//EN
CALSCALE:GREGORIAN
METHOD:PUBLISH
X-WR-CALNAME:Filmhuis Mechelen
X-ORIGINAL-URL:https://www.filmhuismechelen.be
X-WR-CALDESC:Events for Filmhuis Mechelen
BEGIN:VEVENT
DTSTART;TZID=UTC+2:20181104T100000
DTEND;TZID=UTC+2:20181104T100000
DTSTAMP:20260421T202637
CREATED:20180824T165924Z
LAST-MODIFIED:20181102T090506Z
UID:10176-1541325600-1541325600@www.filmhuismechelen.be
SUMMARY:KIDSCAM-filmontbijt: MANOLO'S MAGISCHE REIS
DESCRIPTION:Ontbijt vanaf 10u00.\nFilm om 11u00.\n\nDe voorverkoop voor de formule film + ontbijt is afgesloten.\nTickets voor de film alleen kunt u aan de dagkassa kopen.\n\nAlle info en trailer vindt u HIER!\n\nIn samenwerking met KIDSCAM\, OXFAM Wereldwinkel Mechelen en Cultuurcentrum Mechelen.
URL:https://www.filmhuismechelen.be/vertoning/kidscam-filmontbijt-manolos-magische-reis/
CATEGORIES:Kinderfilms,Programma
END:VEVENT
END:VCALENDAR