BEGIN:VCALENDAR
VERSION:2.0
PRODID:-//Filmhuis Mechelen - ECPv4.3.1.1//NONSGML v1.0//EN
CALSCALE:GREGORIAN
METHOD:PUBLISH
X-WR-CALNAME:Filmhuis Mechelen
X-ORIGINAL-URL:https://www.filmhuismechelen.be
X-WR-CALDESC:Events for Filmhuis Mechelen
BEGIN:VEVENT
DTSTART;TZID=UTC+2:20181216T100000
DTEND;TZID=UTC+2:20181216T100000
DTSTAMP:20260421T201851
CREATED:20180823T212914Z
LAST-MODIFIED:20181211T080712Z
UID:10165-1544954400-1544954400@www.filmhuismechelen.be
SUMMARY:KIDSCAM-filmontbijt: EARLY MAN
DESCRIPTION:Film om 11u00.\n\nDe formule film + ontbijt is ondertussen uitverkocht!\nVoor de film alleen (dus zonder ontbijt) kunt u tickets kopen aan de kassa.\n\n\nEen organisatie i.s.m. KIDSCAM\, Wereldwinkel Mechelen en Cultuurcentrum Mechelen.
URL:https://www.filmhuismechelen.be/vertoning/kidscam-filmontbijt-early-man/
CATEGORIES:Kinderfilms,Programma
END:VEVENT
END:VCALENDAR