BEGIN:VCALENDAR
VERSION:2.0
PRODID:-//Filmhuis Mechelen - ECPv4.3.1.1//NONSGML v1.0//EN
CALSCALE:GREGORIAN
METHOD:PUBLISH
X-WR-CALNAME:Filmhuis Mechelen
X-ORIGINAL-URL:https://www.filmhuismechelen.be
X-WR-CALDESC:Events for Filmhuis Mechelen
BEGIN:VEVENT
DTSTART;TZID=UTC+2:20171105T100000
DTEND;TZID=UTC+2:20171105T100000
DTSTAMP:20260425T155736
CREATED:20170629T000858Z
LAST-MODIFIED:20170629T000858Z
UID:7921-1509876000-1509876000@www.filmhuismechelen.be
SUMMARY:KIDSCAM-filmontbijt: ANIMALUNA-kortfilms
DESCRIPTION:In het kader van het gloednieuwe AnimaLuna-animatiefilmfestival presenteren we u een aangepaste selectie heerlijke kortfilms!\n\nRichtleeftijd: kinderen +6 jaar\n\nOntbijt om 10 uur.\nFilm om 11 uur.\n\nWie de formule film + ontbijt wil\, moet vooraf reserveren\, via deze LINK.\n\nInkomprijzen:\nFilm + ontbijt (+12 jaar): 10 euro.\nFilm + ontbijt (-12 jaar): 7 euro.\nAlleen film: 4 euro.\n\n\n\n\nEen organisatie i.s.m. KIDSCAM\, Cultuurcentrum Mechelen en Oxfam Wereldwinkel Mechelen.\n\n\n 
URL:https://www.filmhuismechelen.be/vertoning/kidscam-filmontbijt-animaluna-kortfilms/
END:VEVENT
END:VCALENDAR