BEGIN:VCALENDAR
VERSION:2.0
PRODID:-//Filmhuis Mechelen - ECPv4.3.1.1//NONSGML v1.0//EN
CALSCALE:GREGORIAN
METHOD:PUBLISH
X-WR-CALNAME:Filmhuis Mechelen
X-ORIGINAL-URL:https://www.filmhuismechelen.be
X-WR-CALDESC:Events for Filmhuis Mechelen
BEGIN:VEVENT
DTSTART;TZID=UTC+2:20181007T100000
DTEND;TZID=UTC+2:20181007T100000
DTSTAMP:20260423T103725
CREATED:20180904T204602Z
LAST-MODIFIED:20181006T205009Z
UID:10308-1538906400-1538906400@www.filmhuismechelen.be
SUMMARY:KIDSCAM-filmontbijt: 6+ kortfilmselectie
DESCRIPTION:Ontbijt vanaf 10u00.\nFilm om 11u00.\n\nOp het programma: een selectie spannende\, grappige\, originele en verrassende korte animatiefilms voor kinderen 6+\n\nMet op het programma o.a. ‘DE DROOM VAN DE STEENHOUWER’ (Frits Standaert\, B 2018\, 17 min.)\, over een succesvolle en schatrijke maar verveelde koopman die jaloers is op het geluk van een arme steenhouwer.\n\nDe voorverkoop voor de film+ontbijt-formule is afgesloten.\nTickets voor de film alleen zijn nog te koop aan de dagkassa.\n\n\n\n\n 
URL:https://www.filmhuismechelen.be/vertoning/kidscam-filmontbijt-6-kortfilmselectie/
CATEGORIES:Kinderfilms,Kortfilm,Programma
END:VEVENT
END:VCALENDAR