BEGIN:VCALENDAR
VERSION:2.0
PRODID:-//Filmhuis Mechelen - ECPv4.3.1.1//NONSGML v1.0//EN
CALSCALE:GREGORIAN
METHOD:PUBLISH
X-WR-CALNAME:Filmhuis Mechelen
X-ORIGINAL-URL:https://www.filmhuismechelen.be
X-WR-CALDESC:Events for Filmhuis Mechelen
BEGIN:VEVENT
DTSTART;TZID=UTC+2:20171223T150000
DTEND;TZID=UTC+2:20171223T150000
DTSTAMP:20260425T143837
CREATED:20171204T170822Z
LAST-MODIFIED:20171220T134921Z
UID:8798-1514041200-1514041200@www.filmhuismechelen.be
SUMMARY:Kerstfilm: ARTHUR CHRISTMAS
DESCRIPTION:Vertoning om 15u00.\n\nNederlands gesproken 2D-versie!\n\n\nEen organisatie i.s.m. Mechelen Houdt Je Warm!
URL:https://www.filmhuismechelen.be/vertoning/kerstfilm-arthur-christmas/
CATEGORIES:Kinderfilms,Programma
END:VEVENT
END:VCALENDAR