BEGIN:VCALENDAR
VERSION:2.0
PRODID:-//Filmhuis Mechelen - ECPv4.3.1.1//NONSGML v1.0//EN
CALSCALE:GREGORIAN
METHOD:PUBLISH
X-WR-CALNAME:Filmhuis Mechelen
X-ORIGINAL-URL:https://www.filmhuismechelen.be
X-WR-CALDESC:Events for Filmhuis Mechelen
BEGIN:VEVENT
DTSTART;TZID=UTC+2:20181225T203000
DTEND;TZID=UTC+2:20181225T203000
DTSTAMP:20260423T103329
CREATED:20181113T094052Z
LAST-MODIFIED:20181113T094052Z
UID:10758-1545769800-1545769800@www.filmhuismechelen.be
SUMMARY:Kerst - geen vertoningen
DESCRIPTION:
URL:https://www.filmhuismechelen.be/vertoning/kerst-geen-vertoningen/
CATEGORIES:Programma
END:VEVENT
END:VCALENDAR