BEGIN:VCALENDAR
VERSION:2.0
PRODID:-//Filmhuis Mechelen - ECPv4.3.1.1//NONSGML v1.0//EN
CALSCALE:GREGORIAN
METHOD:PUBLISH
X-WR-CALNAME:Filmhuis Mechelen
X-ORIGINAL-URL:https://www.filmhuismechelen.be
X-WR-CALDESC:Events for Filmhuis Mechelen
BEGIN:VEVENT
DTSTART;TZID=UTC+2:20171107T183000
DTEND;TZID=UTC+2:20171107T183000
DTSTAMP:20260425T161846
CREATED:20171105T010035Z
LAST-MODIFIED:20171105T010321Z
UID:8591-1510079400-1510079400@www.filmhuismechelen.be
SUMMARY:JUUL'S EARS - première!
DESCRIPTION:TWEE VERTONINGEN!\nVertoning 1 om 18u30.\nVertoning 2 om 20u30.\n\nPREMIERE!\n\nEen voorstelling in de RAND! van het BRAND!-jazzfestival.\n\nTickets reserveren kan HIER.\n—–\n\n‘Juul’s Ears’ is een portret van (en een ode aan) de in 2008 overleden JuulAnthonissen: vermaard jazzkenner\, -verzamelaar en –journalist\, onvermoeibare promotor van de jazz en oprichter van de befaamde Hnita Jazz Club in Heist-op-den-Berg\, waar hij een onwaarschijnlijk indrukwekkend rijtje legendes naartoe wist te halen: Chet Baker\, Keith Jarrett\, Charles Mingus\, Sun Ra\, Bill Evans\, Toots Thielemans\, Dexter Gordon\, Archie Shepp\, Art Blakey\, Pharoah Sanders\, Hank Mobley\, Freddie Hubbard….\n\nEen organisatie i.s.m. nona en Cultuurcentrum Mechelen\n\n 
URL:https://www.filmhuismechelen.be/vertoning/juuls-ears-premiere-2/
CATEGORIES:Programma
END:VEVENT
END:VCALENDAR