BEGIN:VCALENDAR
VERSION:2.0
PRODID:-//Filmhuis Mechelen - ECPv4.3.1.1//NONSGML v1.0//EN
CALSCALE:GREGORIAN
METHOD:PUBLISH
X-WR-CALNAME:Filmhuis Mechelen
X-ORIGINAL-URL:https://www.filmhuismechelen.be
X-WR-CALDESC:Events for Filmhuis Mechelen
BEGIN:VEVENT
DTSTART;TZID=UTC+2:20200211T203500
DTEND;TZID=UTC+2:20200211T203500
DTSTAMP:20260420T224513
CREATED:20200109T155915Z
LAST-MODIFIED:20200120T122130Z
UID:13539-1581453300-1581453300@www.filmhuismechelen.be
SUMMARY:JOKER
DESCRIPTION:Vertoningen:\nDINSDAG 11 FEBRUARI om 18u30.\nDINSDAG 11 FEBRUARI om 20u35.\n\nALLE INFO\, TRAILER & RECENSIES HIER!\n\n\n\nKijkwijzer:\n\n\n 
URL:https://www.filmhuismechelen.be/vertoning/joker-2/
CATEGORIES:De dinsdagen van het Filmhuis,Programma
END:VEVENT
END:VCALENDAR