BEGIN:VCALENDAR
VERSION:2.0
PRODID:-//Filmhuis Mechelen - ECPv4.3.1.1//NONSGML v1.0//EN
CALSCALE:GREGORIAN
METHOD:PUBLISH
X-WR-CALNAME:Filmhuis Mechelen
X-ORIGINAL-URL:https://www.filmhuismechelen.be
X-WR-CALDESC:Events for Filmhuis Mechelen
BEGIN:VEVENT
DTSTART;TZID=UTC+2:20220225T190000
DTEND;TZID=UTC+2:20220225T190000
DTSTAMP:20260421T105513
CREATED:20220202T214335Z
LAST-MODIFIED:20220202T220245Z
UID:24477-1645815600-1645815600@www.filmhuismechelen.be
SUMMARY:Jeugdfilm: OP DE VLUCHT
DESCRIPTION:Vertoning:\nVRIJDAG 25 FEBRUARI om 19u00\n\nTICKETS koopt u HIER!\n\n\nRichtleeftijd 8 +\nNederlands gesproken versie.\n\nALLE INFO & TRAILER HIER!\n\nEen vertoning i.s.m. REKKER\, Cultuurcentrum Mechelen en Kazerne Dossin.\n\nWil je na het zien van deze film meer weten over de Tweede Wereldoorlog?\nKazerne Dossin biedt verschillende parcours aan voor kinderen\, jongeren en gezinnen.\nAlle info HIER!\n\n
URL:https://www.filmhuismechelen.be/vertoning/jeugdfilm-op-de-vlucht/
LOCATION:Minderbroedersgang 5\, Mechelen\, 2800
CATEGORIES:Kinderfilms,Programma
END:VEVENT
END:VCALENDAR