BEGIN:VCALENDAR
VERSION:2.0
PRODID:-//Filmhuis Mechelen - ECPv4.3.1.1//NONSGML v1.0//EN
CALSCALE:GREGORIAN
METHOD:PUBLISH
X-WR-CALNAME:Filmhuis Mechelen
X-ORIGINAL-URL:https://www.filmhuismechelen.be
X-WR-CALDESC:Events for Filmhuis Mechelen
BEGIN:VEVENT
DTSTART;TZID=UTC+2:20201030T190000
DTEND;TZID=UTC+2:20201030T190000
DTSTAMP:20260420T225053
CREATED:20200713T194944Z
LAST-MODIFIED:20201028T091229Z
UID:17478-1604084400-1604084400@www.filmhuismechelen.be
SUMMARY:GEANNULEERD: Jeugdfilm: MIJN BIJZONDER RARE WEEK MET TESS
DESCRIPTION:Door de cororanmaatregelen zijn we helaas gedwongen deze vertoning te annuleren.\n\nGekochte tickets worden uiteraard terugbetaald.\n\nALLE ANDERE INFO & TRAILER HIER!\n\nHeerlijk zomers voortdobberende jeugdfilm over Sam die samen met zijn ouders\, zijn grote broer en een heleboel toeristen de vakantie op Terschelling doorbrengt\, maar toch de gave bezit om zich tussen al die mensen ‘alleen te voelen’.\n\nTot hij Tess ontmoet\, een ongrijpbaar meisje met gekke gedachten die hun relatie voortdurend op de proef stellen. Tess sleurt hem mee in een avontuur dat hun levens voorgoed zal veranderen.\n\n'MIJN BIJZONDER RARE WEEK MET TESS' werd op zowat elk festival bekroond.
URL:https://www.filmhuismechelen.be/vertoning/jeugdfilm-mijn-bijzonder-rare-week-met-tess/
CATEGORIES:Kinderfilms,Programma
END:VEVENT
END:VCALENDAR