BEGIN:VCALENDAR
VERSION:2.0
PRODID:-//Filmhuis Mechelen - ECPv4.3.1.1//NONSGML v1.0//EN
CALSCALE:GREGORIAN
METHOD:PUBLISH
X-WR-CALNAME:Filmhuis Mechelen
X-ORIGINAL-URL:https://www.filmhuismechelen.be
X-WR-CALDESC:Events for Filmhuis Mechelen
BEGIN:VEVENT
DTSTART;TZID=UTC+2:20200306T190000
DTEND;TZID=UTC+2:20200306T190000
DTSTAMP:20260420T130236
CREATED:20190811T162507Z
LAST-MODIFIED:20200225T174430Z
UID:12264-1583521200-1583521200@www.filmhuismechelen.be
SUMMARY:Jeugdfilm: ISLE OF DOGS
DESCRIPTION:Vertoning:\nVRIJDAG 6 MAART 2020 om 19u00.\n\nSpeciaal voor jonge cinefielen: filmparels-die-je-gezien-moét-hebben\, vertoond in samenwerking met REKKER en Cultuurcentrum Mechelen.\n\nRichtleeftijd: 12+\n\nTickets in voorverkoop zijn HIER beschikbaar!\n\nALLE INFO\, TRAILER & RECENSIES VAN DE FILM VINDT U HIER!\n\n
URL:https://www.filmhuismechelen.be/vertoning/jeugdfilm-isle-of-dogs/
CATEGORIES:Kinderfilms,Programma
END:VEVENT
END:VCALENDAR