BEGIN:VCALENDAR
VERSION:2.0
PRODID:-//Filmhuis Mechelen - ECPv4.3.1.1//NONSGML v1.0//EN
CALSCALE:GREGORIAN
METHOD:PUBLISH
X-WR-CALNAME:Filmhuis Mechelen
X-ORIGINAL-URL:https://www.filmhuismechelen.be
X-WR-CALDESC:Events for Filmhuis Mechelen
BEGIN:VEVENT
DTSTART;TZID=UTC+2:20180911T203000
DTEND;TZID=UTC+2:20180911T203000
DTSTAMP:20260423T085902
CREATED:20180829T162529Z
LAST-MODIFIED:20180905T123234Z
UID:10229-1536697800-1536697800@www.filmhuismechelen.be
SUMMARY:ISLE OF DOGS
DESCRIPTION:Vertoningen op:\nDINSDAG 11 SEPTEMBER om 18u30.\nDINSDAG 11 SEPTEMBER om 20u30.\n\nAlle info\, trailer en recensies van deze film vindt u HIER!\n\n
URL:https://www.filmhuismechelen.be/vertoning/isle-of-dogs-2/
CATEGORIES:De dinsdagen van het Filmhuis,Programma
END:VEVENT
END:VCALENDAR