BEGIN:VCALENDAR
VERSION:2.0
PRODID:-//Filmhuis Mechelen - ECPv4.3.1.1//NONSGML v1.0//EN
CALSCALE:GREGORIAN
METHOD:PUBLISH
X-WR-CALNAME:Filmhuis Mechelen
X-ORIGINAL-URL:https://www.filmhuismechelen.be
X-WR-CALDESC:Events for Filmhuis Mechelen
BEGIN:VEVENT
DTSTART;TZID=UTC+2:20200427T190000
DTEND;TZID=UTC+2:20200427T190000
DTSTAMP:20260420T172140
CREATED:20191028T141942Z
LAST-MODIFIED:20200416T114814Z
UID:12891-1588014000-1588014000@www.filmhuismechelen.be
SUMMARY:INTELLIGENT TREES - vertoning verplaatst
DESCRIPTION:Deze vertoning was gepland in het kader van het LUNALIA-festival\, dat door de coronacrisis helaas afgelast is.\n\nWe bekijken nog hoe en wanneer we deze film kunnen vertonen!\n\n
URL:https://www.filmhuismechelen.be/vertoning/intelligent-trees/
CATEGORIES:Documentaire,Programma
END:VEVENT
END:VCALENDAR