BEGIN:VCALENDAR
VERSION:2.0
PRODID:-//Filmhuis Mechelen - ECPv4.3.1.1//NONSGML v1.0//EN
CALSCALE:GREGORIAN
METHOD:PUBLISH
X-WR-CALNAME:Filmhuis Mechelen
X-ORIGINAL-URL:https://www.filmhuismechelen.be
X-WR-CALDESC:Events for Filmhuis Mechelen
BEGIN:VEVENT
DTSTART;TZID=UTC+2:20181217T203000
DTEND;TZID=UTC+2:20181217T203000
DTSTAMP:20260421T234403
CREATED:20181108T210130Z
LAST-MODIFIED:20181108T210130Z
UID:10694-1545078600-1545078600@www.filmhuismechelen.be
SUMMARY:INCLUSIEF
DESCRIPTION:Vertoning:\nMAANDAG 17 DECEMBER om 20u30.\n\n
URL:https://www.filmhuismechelen.be/vertoning/inclusief/
CATEGORIES:Documentaire,Programma
END:VEVENT
END:VCALENDAR