BEGIN:VCALENDAR
VERSION:2.0
PRODID:-//Filmhuis Mechelen - ECPv4.3.1.1//NONSGML v1.0//EN
CALSCALE:GREGORIAN
METHOD:PUBLISH
X-WR-CALNAME:Filmhuis Mechelen
X-ORIGINAL-URL:https://www.filmhuismechelen.be
X-WR-CALDESC:Events for Filmhuis Mechelen
BEGIN:VEVENT
DTSTART;TZID=UTC+2:20180417T203000
DTEND;TZID=UTC+2:20180417T203000
DTSTAMP:20260425T141054
CREATED:20180112T182309Z
LAST-MODIFIED:20180112T183844Z
UID:9215-1523997000-1523997000@www.filmhuismechelen.be
SUMMARY:IMAGINE RAYMOND
DESCRIPTION:Vertoning om 20u30\n\nOPGELET!\nVoor deze vertoning geldt uitzonderlijk een ander inkomtarief.\n\nFilmhuisleden: 6 euro.\nNiet-leden: 9 euro.\nUitpas met kansentarfief: 3 euro.\n\n\nTickets reserveren kan HIER\n\nMuziek van Raymond Scott\, bekend van de Bugs Bunny-\, Roadrunner- en Daffy Duck-cartoons.\nScotts composities worden live gebracht door het zevenkoppige Imagine Raymond.\n\n\n\nBeeldend kunstenaar Victor Van Rossem manipuleert live visuals (voornameijk bestaande uit oude 8mm-filmpjes) bij de muziek.\n\nMiep-miep! Vroaaar!\n\nEen organisatie i.s.m. Nona.
URL:https://www.filmhuismechelen.be/vertoning/imagine-raymond/
CATEGORIES:Programma
END:VEVENT
END:VCALENDAR