BEGIN:VCALENDAR
VERSION:2.0
PRODID:-//Filmhuis Mechelen - ECPv4.3.1.1//NONSGML v1.0//EN
CALSCALE:GREGORIAN
METHOD:PUBLISH
X-WR-CALNAME:Filmhuis Mechelen
X-ORIGINAL-URL:https://www.filmhuismechelen.be
X-WR-CALDESC:Events for Filmhuis Mechelen
BEGIN:VEVENT
DTSTART;TZID=UTC+2:20190416T203000
DTEND;TZID=UTC+2:20190416T203000
DTSTAMP:20260421T145828
CREATED:20190306T200017Z
LAST-MODIFIED:20190330T141800Z
UID:11556-1555446600-1555446600@www.filmhuismechelen.be
SUMMARY:IF BEALE STREET COULD TALK
DESCRIPTION:Vertoningen:\nDINSDAG 16 APRIL om 20u30.\nDINSDAG 23 APRIL om 18u30.\nMAANDAG 29 APRIL om 18u30.\n\nAlle info\, trailer en recensies HIER!\n\n
URL:https://www.filmhuismechelen.be/vertoning/if-beale-street-could-talk/
CATEGORIES:De dinsdagen van het Filmhuis,Programma
END:VEVENT
END:VCALENDAR