BEGIN:VCALENDAR
VERSION:2.0
PRODID:-//Filmhuis Mechelen - ECPv4.3.1.1//NONSGML v1.0//EN
CALSCALE:GREGORIAN
METHOD:PUBLISH
X-WR-CALNAME:Filmhuis Mechelen
X-ORIGINAL-URL:https://www.filmhuismechelen.be
X-WR-CALDESC:Events for Filmhuis Mechelen
BEGIN:VEVENT
DTSTART;TZID=UTC+2:20190429T183000
DTEND;TZID=UTC+2:20190429T183000
DTSTAMP:20260421T131559
CREATED:20190307T085711Z
LAST-MODIFIED:20190423T194001Z
UID:11572-1556562600-1556562600@www.filmhuismechelen.be
SUMMARY:IF BEALE STREET COULD TALK
DESCRIPTION:Vertoning:\nMAANDAG 29 APRIL om 18u30.\n\nAlle info\, trailer en recensies HIER!\n\n
URL:https://www.filmhuismechelen.be/vertoning/if-beale-street-could-talk-3/
CATEGORIES:Programma
END:VEVENT
END:VCALENDAR