BEGIN:VCALENDAR
VERSION:2.0
PRODID:-//Filmhuis Mechelen - ECPv4.3.1.1//NONSGML v1.0//EN
CALSCALE:GREGORIAN
METHOD:PUBLISH
X-WR-CALNAME:Filmhuis Mechelen
X-ORIGINAL-URL:https://www.filmhuismechelen.be
X-WR-CALDESC:Events for Filmhuis Mechelen
BEGIN:VEVENT
DTSTART;TZID=UTC+2:20201102T203000
DTEND;TZID=UTC+2:20201102T203000
DTSTAMP:20260420T224605
CREATED:20200904T162412Z
LAST-MODIFIED:20201020T202328Z
UID:17892-1604349000-1604349000@www.filmhuismechelen.be
SUMMARY:Green Screen: HONEYLAND - vertoning verplaatst
DESCRIPTION:UPDATE: door de nieuwe coronamaatregelen hebben we beslist onze vertoningen voorlopig op te schorten.\nDeze film blijft op ons programma\, maar wordt naar een latere datum verschoven!\n\nGekochte tickets worden uiteraard terugbetaald.\n\nTRAILER & ALLE INFO HIER!\n\n\n\n 
URL:https://www.filmhuismechelen.be/vertoning/honeyland/
CATEGORIES:Documentaire,Programma
END:VEVENT
END:VCALENDAR