BEGIN:VCALENDAR
VERSION:2.0
PRODID:-//Filmhuis Mechelen - ECPv4.3.1.1//NONSGML v1.0//EN
CALSCALE:GREGORIAN
METHOD:PUBLISH
X-WR-CALNAME:Filmhuis Mechelen
X-ORIGINAL-URL:https://www.filmhuismechelen.be
X-WR-CALDESC:Events for Filmhuis Mechelen
BEGIN:VEVENT
DTSTART;TZID=UTC+2:20190204T183000
DTEND;TZID=UTC+2:20190204T183000
DTSTAMP:20260421T162808
CREATED:20181213T183747Z
LAST-MODIFIED:20190117T015837Z
UID:11005-1549305000-1549305000@www.filmhuismechelen.be
SUMMARY:HOLLYWOOD AAN DE SCHELDE
DESCRIPTION:Vertoningen:\nMAANDAG 4 FEBRUARI om 18u30.\nDINSDAG 5 FEBRUARI om 18u30.\n\nAlle info\, trailer en recensies vindt\nu HIER!\n\n \n\n \n\n \n\n \n\n \n\n \n\n\n\n 
URL:https://www.filmhuismechelen.be/vertoning/hollywood-aan-de-schelde/
CATEGORIES:Documentaire,Programma
END:VEVENT
END:VCALENDAR