BEGIN:VCALENDAR
VERSION:2.0
PRODID:-//Filmhuis Mechelen - ECPv4.3.1.1//NONSGML v1.0//EN
CALSCALE:GREGORIAN
METHOD:PUBLISH
X-WR-CALNAME:Filmhuis Mechelen
X-ORIGINAL-URL:https://www.filmhuismechelen.be
X-WR-CALDESC:Events for Filmhuis Mechelen
BEGIN:VEVENT
DTSTART;TZID=UTC+2:20180108T183000
DTEND;TZID=UTC+2:20180108T183000
DTSTAMP:20260425T155134
CREATED:20171207T010711Z
LAST-MODIFIED:20171207T010732Z
UID:8832-1515436200-1515436200@www.filmhuismechelen.be
SUMMARY:HAPPY END
DESCRIPTION:Vertoning om 18u30.\n\n
URL:https://www.filmhuismechelen.be/vertoning/happy-end-2/
CATEGORIES:Programma
END:VEVENT
END:VCALENDAR