BEGIN:VCALENDAR
VERSION:2.0
PRODID:-//Filmhuis Mechelen - ECPv4.3.1.1//NONSGML v1.0//EN
CALSCALE:GREGORIAN
METHOD:PUBLISH
X-WR-CALNAME:Filmhuis Mechelen
X-ORIGINAL-URL:https://www.filmhuismechelen.be
X-WR-CALDESC:Events for Filmhuis Mechelen
BEGIN:VEVENT
DTSTART;TZID=UTC+2:20220411T183000
DTEND;TZID=UTC+2:20220411T183000
DTSTAMP:20260421T074017
CREATED:20220303T145915Z
LAST-MODIFIED:20220322T202221Z
UID:24904-1649701800-1649701800@www.filmhuismechelen.be
SUMMARY:GROSSE FREIHEIT
DESCRIPTION:Vertoning:\nMAANDAG 11 APRIL om 18u30 - tickets voor deze vertoning HIER!\n\nTIP: koop eerst een SEIZOENSKAART\, en bespaar zo 2 euro per ticket.\n\nALLE INFO\, TRAILER & RECENSIES HIER!\n\n\n\n 
URL:https://www.filmhuismechelen.be/vertoning/grosse-freiheit-3/
LOCATION:Minderbroedersgang 5\, Mechelen\, 2800
CATEGORIES:Programma
END:VEVENT
END:VCALENDAR