BEGIN:VCALENDAR
VERSION:2.0
PRODID:-//Filmhuis Mechelen - ECPv4.3.1.1//NONSGML v1.0//EN
CALSCALE:GREGORIAN
METHOD:PUBLISH
X-WR-CALNAME:Filmhuis Mechelen
X-ORIGINAL-URL:https://www.filmhuismechelen.be
X-WR-CALDESC:Events for Filmhuis Mechelen
BEGIN:VEVENT
DTSTART;TZID=UTC+2:20190923T203000
DTEND;TZID=UTC+2:20190923T203000
DTSTAMP:20260420T155246
CREATED:20190715T132519Z
LAST-MODIFIED:20190819T152505Z
UID:12217-1569270600-1569270600@www.filmhuismechelen.be
SUMMARY:Green Screen: THE BIGGEST LITTLE FARM
DESCRIPTION:\nVertoning:\nMAANDAG 23 SEPTEMBER om 20u30.\n\nALLE INFO & TRAILER HIER!\n\nEen vertoning in het kader van onze Green Screen-reeks!\n\n\n\nIn samenwerking met VELT Mechelen & Natuurpunt Mechels Rivierengebied.\n\nGevolgd door een Q&A met Patrick Jacoby van Het Gulden Gehucht.\n
URL:https://www.filmhuismechelen.be/vertoning/green-screen-the-biggest-little-farm/
CATEGORIES:Documentaire,Programma
END:VEVENT
END:VCALENDAR