BEGIN:VCALENDAR
VERSION:2.0
PRODID:-//Filmhuis Mechelen - ECPv4.3.1.1//NONSGML v1.0//EN
CALSCALE:GREGORIAN
METHOD:PUBLISH
X-WR-CALNAME:Filmhuis Mechelen
X-ORIGINAL-URL:https://www.filmhuismechelen.be
X-WR-CALDESC:Events for Filmhuis Mechelen
BEGIN:VEVENT
DTSTART;TZID=UTC+2:20210920T203000
DTEND;TZID=UTC+2:20210920T203000
DTSTAMP:20260424T100742
CREATED:20210720T125831Z
LAST-MODIFIED:20210909T141553Z
UID:22547-1632169800-1632169800@www.filmhuismechelen.be
SUMMARY:Green Screen: HONEYLAND
DESCRIPTION:Vertoning:\nMAANDAG 20 SEPTEMBER om 20u30.\n\nTICKETS voor deze vertoning HIER!\n\nTIP: koop eerst een SEIZOENSKAART\, en bespaar zo 2 euro per vertoning.\n\nALLE INFO\, TRAILER & RECENSIES HIER!\n\nEen vertoning in onze Green Screen-reeks.\n\nIn samenwerking met Bysonder\, kweekplek voor voedselbosplantsoen
URL:https://www.filmhuismechelen.be/vertoning/green-screen-honeyland/
LOCATION:Minderbroedersgang 5\, Mechelen\, 2800
CATEGORIES:Documentaire,Programma
END:VEVENT
END:VCALENDAR