BEGIN:VCALENDAR
VERSION:2.0
PRODID:-//Filmhuis Mechelen - ECPv4.3.1.1//NONSGML v1.0//EN
CALSCALE:GREGORIAN
METHOD:PUBLISH
X-WR-CALNAME:Filmhuis Mechelen
X-ORIGINAL-URL:https://www.filmhuismechelen.be
X-WR-CALDESC:Events for Filmhuis Mechelen
BEGIN:VEVENT
DTSTART;TZID=UTC+2:20210927T190000
DTEND;TZID=UTC+2:20210927T190000
DTSTAMP:20260422T234856
CREATED:20210902T131155Z
LAST-MODIFIED:20210909T181701Z
UID:22988-1632769200-1632769200@www.filmhuismechelen.be
SUMMARY:Green Screen: FOOD FOR CHANGE
DESCRIPTION:Vertoning:\nMAANDAG 27 SEPTEMBER om 19u00\n+\nQ&A\n\nTICKETS voor deze vertoning HIER!\n\nALLE INFO & TRAILER HIER!\n\nEen documentaire in onze Green Screen-reeks.\n\nVertoning in het kader van het Food.Film.Fest.\nIn samenwerking met Voedsel Anders\, Wervel en Bysonder.
URL:https://www.filmhuismechelen.be/vertoning/green-screen-food-for-change/
LOCATION:Minderbroedersgang 5\, Mechelen\, 2800
CATEGORIES:Documentaire,Programma
END:VEVENT
END:VCALENDAR