BEGIN:VCALENDAR
VERSION:2.0
PRODID:-//Filmhuis Mechelen - ECPv4.3.1.1//NONSGML v1.0//EN
CALSCALE:GREGORIAN
METHOD:PUBLISH
X-WR-CALNAME:Filmhuis Mechelen
X-ORIGINAL-URL:https://www.filmhuismechelen.be
X-WR-CALDESC:Events for Filmhuis Mechelen
BEGIN:VEVENT
DTSTART;TZID=UTC+2:20190319T204000
DTEND;TZID=UTC+2:20190319T204000
DTSTAMP:20260421T113808
CREATED:20190130T142754Z
LAST-MODIFIED:20190315T075941Z
UID:11339-1553028000-1553028000@www.filmhuismechelen.be
SUMMARY:GREEN BOOK
DESCRIPTION:Vertoningen:\nDINSDAG 19 MAART om 18u30.\nDINSDAG 19 MAART om 20u40.\nMAANDAG 25 MAART om 18u30.\n\nAlle info & trailer HIER!\n\n
URL:https://www.filmhuismechelen.be/vertoning/green-book-3/
CATEGORIES:De dinsdagen van het Filmhuis,Programma
END:VEVENT
END:VCALENDAR