BEGIN:VCALENDAR
VERSION:2.0
PRODID:-//Filmhuis Mechelen - ECPv4.3.1.1//NONSGML v1.0//EN
CALSCALE:GREGORIAN
METHOD:PUBLISH
X-WR-CALNAME:Filmhuis Mechelen
X-ORIGINAL-URL:https://www.filmhuismechelen.be
X-WR-CALDESC:Events for Filmhuis Mechelen
BEGIN:VEVENT
DTSTART;TZID=UTC+2:20190325T183000
DTEND;TZID=UTC+2:20190325T183000
DTSTAMP:20260421T113716
CREATED:20190130T142614Z
LAST-MODIFIED:20190319T214340Z
UID:11337-1553538600-1553538600@www.filmhuismechelen.be
SUMMARY:GREEN BOOK
DESCRIPTION:Vertoning:\nMAANDAG 25 MAART om 18u30.\n\nAlle info & trailer HIER!\n\n
URL:https://www.filmhuismechelen.be/vertoning/green-book-2/
CATEGORIES:Programma
END:VEVENT
END:VCALENDAR