BEGIN:VCALENDAR
VERSION:2.0
PRODID:-//Filmhuis Mechelen - ECPv4.3.1.1//NONSGML v1.0//EN
CALSCALE:GREGORIAN
METHOD:PUBLISH
X-WR-CALNAME:Filmhuis Mechelen
X-ORIGINAL-URL:https://www.filmhuismechelen.be
X-WR-CALDESC:Events for Filmhuis Mechelen
BEGIN:VEVENT
DTSTART;TZID=UTC+2:20190507T203000
DTEND;TZID=UTC+2:20190507T203000
DTSTAMP:20260421T082053
CREATED:20190327T192115Z
LAST-MODIFIED:20190330T140936Z
UID:11738-1557261000-1557261000@www.filmhuismechelen.be
SUMMARY:GRACE A DIEU
DESCRIPTION:Vertoningen:\nMAANDAG 6 MEI om 18u30.\nDINSDAG 7 MEI om 20u30.\n\nAlle info\, trailer en recensies HIER!\n\n
URL:https://www.filmhuismechelen.be/vertoning/grace-a-dieu-2/
CATEGORIES:De dinsdagen van het Filmhuis,Programma
END:VEVENT
END:VCALENDAR