BEGIN:VCALENDAR
VERSION:2.0
PRODID:-//Filmhuis Mechelen - ECPv4.3.1.1//NONSGML v1.0//EN
CALSCALE:GREGORIAN
METHOD:PUBLISH
X-WR-CALNAME:Filmhuis Mechelen
X-ORIGINAL-URL:https://www.filmhuismechelen.be
X-WR-CALDESC:Events for Filmhuis Mechelen
BEGIN:VEVENT
DTSTART;TZID=UTC+2:20180424T183000
DTEND;TZID=UTC+2:20180424T183000
DTSTAMP:20260425T173747
CREATED:20180412T121735Z
LAST-MODIFIED:20180412T121735Z
UID:9817-1524594600-1524594600@www.filmhuismechelen.be
SUMMARY:GOD'S OWN COUNTRY
DESCRIPTION:TWEE VERTONINGEN!\nDINSDAG 24 APRIL om 18u30.\nDINSDAG 24 APRIL om 20u30.\n\n\n\n\n\n 
URL:https://www.filmhuismechelen.be/vertoning/gods-own-country-2/
CATEGORIES:De dinsdagen van het Filmhuis,Programma
END:VEVENT
END:VCALENDAR