BEGIN:VCALENDAR
VERSION:2.0
PRODID:-//Filmhuis Mechelen - ECPv4.3.1.1//NONSGML v1.0//EN
CALSCALE:GREGORIAN
METHOD:PUBLISH
X-WR-CALNAME:Filmhuis Mechelen
X-ORIGINAL-URL:https://www.filmhuismechelen.be
X-WR-CALDESC:Events for Filmhuis Mechelen
BEGIN:VEVENT
DTSTART;TZID=UTC+2:20181021T100000
DTEND;TZID=UTC+2:20181021T100000
DTSTAMP:20260422T051039
CREATED:20180927T124603Z
LAST-MODIFIED:20181011T210013Z
UID:10433-1540116000-1540116000@www.filmhuismechelen.be
SUMMARY:Filmontbijt + RAMEN SHOP
DESCRIPTION:ZONDAG 21 OKTOBER\n\nOntbijt: vanaf 10u00.\nFilm: om 11u00.\n\nTen voordele van de 1000 km van Kom Op Tegen Kanker!\n\nTickets voor de film + ontbijt-formule bestellen?\n\nSchrijf ten laatste op 18 oktober 12 euro (x aantal personen) over op rekeningnummer IBAN: BE61 8508 1884 6817 van Mechelen Mondiaal\nmet vermelding van naam en aantal personen.\n\n\nTickets voor de film (zonder ontbijt) zijn te koop aan de dagkassa.\n\nEen organisatie i.s.m. Mechelen Mondiaal.\n\n
URL:https://www.filmhuismechelen.be/vertoning/filmontbijt-ramen-shop/
CATEGORIES:Programma
END:VEVENT
END:VCALENDAR